BEGIN:VCALENDAR
VERSION:2.0
PRODID:-//JSK STRASBOURG HOCKEY CLUB - ECPv6.5.0//NONSGML v1.0//EN
CALSCALE:GREGORIAN
METHOD:PUBLISH
X-ORIGINAL-URL:https://jsk-hockey.eu
X-WR-CALDESC:évènements pour JSK STRASBOURG HOCKEY CLUB
REFRESH-INTERVAL;VALUE=DURATION:PT1H
X-Robots-Tag:noindex
X-PUBLISHED-TTL:PT1H
BEGIN:VTIMEZONE
TZID:UTC
BEGIN:STANDARD
TZOFFSETFROM:+0000
TZOFFSETTO:+0000
TZNAME:UTC
DTSTART:20180101T000000
END:STANDARD
END:VTIMEZONE
BEGIN:VEVENT
DTSTART;TZID=UTC:20180617T110000
DTEND;TZID=UTC:20180617T120000
DTSTAMP:20260426T000217
CREATED:20171231T113321Z
LAST-MODIFIED:20171231T113321Z
UID:9089-1529233200-1529236800@jsk-hockey.eu
SUMMARY:IV. Verbandsliga (Gazon) - Riederich (à domicile)
DESCRIPTION:
URL:https://jsk-hockey.eu/event/iv-verbandsliga-gazon-riederich-a-domicile/
LOCATION:Stade Paco Matéo\, Strasbourg
END:VEVENT
END:VCALENDAR