BEGIN:VCALENDAR
VERSION:2.0
PRODID:-//JSK STRASBOURG HOCKEY CLUB - ECPv6.5.0//NONSGML v1.0//EN
CALSCALE:GREGORIAN
METHOD:PUBLISH
X-WR-CALNAME:JSK STRASBOURG HOCKEY CLUB
X-ORIGINAL-URL:https://jsk-hockey.eu
X-WR-CALDESC:évènements pour JSK STRASBOURG HOCKEY CLUB
REFRESH-INTERVAL;VALUE=DURATION:PT1H
X-Robots-Tag:noindex
X-PUBLISHED-TTL:PT1H
BEGIN:VTIMEZONE
TZID:UTC
BEGIN:STANDARD
TZOFFSETFROM:+0000
TZOFFSETTO:+0000
TZNAME:UTC
DTSTART:20180101T000000
END:STANDARD
END:VTIMEZONE
BEGIN:VEVENT
DTSTART;VALUE=DATE:20180609
DTEND;VALUE=DATE:20180610
DTSTAMP:20260426T000101
CREATED:20171231T113151Z
LAST-MODIFIED:20171231T113151Z
UID:9086-1528502400-1528588799@jsk-hockey.eu
SUMMARY:IV. Verbandsliga (Gazon) - Ludwigsburg
DESCRIPTION:
URL:https://jsk-hockey.eu/event/iv-verbandsliga-gazon-ludwigsburg/
LOCATION:Vaihingen
END:VEVENT
END:VCALENDAR