BEGIN:VCALENDAR
VERSION:2.0
PRODID:-//JSK STRASBOURG HOCKEY CLUB - ECPv6.5.0//NONSGML v1.0//EN
CALSCALE:GREGORIAN
METHOD:PUBLISH
X-ORIGINAL-URL:https://jsk-hockey.eu
X-WR-CALDESC:évènements pour JSK STRASBOURG HOCKEY CLUB
REFRESH-INTERVAL;VALUE=DURATION:PT1H
X-Robots-Tag:noindex
X-PUBLISHED-TTL:PT1H
BEGIN:VTIMEZONE
TZID:UTC
BEGIN:STANDARD
TZOFFSETFROM:+0000
TZOFFSETTO:+0000
TZNAME:UTC
DTSTART:20180101T000000
END:STANDARD
END:VTIMEZONE
BEGIN:VEVENT
DTSTART;VALUE=DATE:20180415
DTEND;VALUE=DATE:20180416
DTSTAMP:20260426T020439
CREATED:20171231T112752Z
LAST-MODIFIED:20171231T112752Z
UID:9075-1523750400-1523836799@jsk-hockey.eu
SUMMARY:IV. Verbandsliga (Gazon) - Riederich
DESCRIPTION:
URL:https://jsk-hockey.eu/event/iv-verbandsliga-gazon-riederich/
LOCATION:Riederich
END:VEVENT
END:VCALENDAR