BEGIN:VCALENDAR
VERSION:2.0
PRODID:-//JSK STRASBOURG HOCKEY CLUB - ECPv6.5.0//NONSGML v1.0//EN
CALSCALE:GREGORIAN
METHOD:PUBLISH
X-ORIGINAL-URL:https://jsk-hockey.eu
X-WR-CALDESC:évènements pour JSK STRASBOURG HOCKEY CLUB
REFRESH-INTERVAL;VALUE=DURATION:PT1H
X-Robots-Tag:noindex
X-PUBLISHED-TTL:PT1H
BEGIN:VTIMEZONE
TZID:UTC
BEGIN:STANDARD
TZOFFSETFROM:+0000
TZOFFSETTO:+0000
TZNAME:UTC
DTSTART:20180101T000000
END:STANDARD
END:VTIMEZONE
BEGIN:VEVENT
DTSTART;VALUE=DATE:20180310
DTEND;VALUE=DATE:20180312
DTSTAMP:20260426T030857
CREATED:20171231T105954Z
LAST-MODIFIED:20171231T110031Z
UID:9065-1520640000-1520812799@jsk-hockey.eu
SUMMARY:Tournoi de Nancy
DESCRIPTION:
URL:https://jsk-hockey.eu/event/tournoi-de-nancy/
LOCATION:Nancy
END:VEVENT
END:VCALENDAR